BEGIN:VCALENDAR
VERSION:2.0
PRODID:-//STOCKHOLMS MAKALÖSA FÖRÄLDRAR - ECPv6.15.20//NONSGML v1.0//EN
CALSCALE:GREGORIAN
METHOD:PUBLISH
X-WR-CALNAME:STOCKHOLMS MAKALÖSA FÖRÄLDRAR
X-ORIGINAL-URL:http://stockholmmakalosa.se
X-WR-CALDESC:Händelser för STOCKHOLMS MAKALÖSA FÖRÄLDRAR
REFRESH-INTERVAL;VALUE=DURATION:PT1H
X-Robots-Tag:noindex
X-PUBLISHED-TTL:PT1H
BEGIN:VTIMEZONE
TZID:Europe/Stockholm
BEGIN:DAYLIGHT
TZOFFSETFROM:+0100
TZOFFSETTO:+0200
TZNAME:CEST
DTSTART:20190331T010000
END:DAYLIGHT
BEGIN:STANDARD
TZOFFSETFROM:+0200
TZOFFSETTO:+0100
TZNAME:CET
DTSTART:20191027T010000
END:STANDARD
BEGIN:DAYLIGHT
TZOFFSETFROM:+0100
TZOFFSETTO:+0200
TZNAME:CEST
DTSTART:20200329T010000
END:DAYLIGHT
BEGIN:STANDARD
TZOFFSETFROM:+0200
TZOFFSETTO:+0100
TZNAME:CET
DTSTART:20201025T010000
END:STANDARD
BEGIN:DAYLIGHT
TZOFFSETFROM:+0100
TZOFFSETTO:+0200
TZNAME:CEST
DTSTART:20210328T010000
END:DAYLIGHT
BEGIN:STANDARD
TZOFFSETFROM:+0200
TZOFFSETTO:+0100
TZNAME:CET
DTSTART:20211031T010000
END:STANDARD
END:VTIMEZONE
BEGIN:VEVENT
DTSTART;TZID=Europe/Stockholm:20200502T101500
DTEND;TZID=Europe/Stockholm:20200502T130000
DTSTAMP:20260423T144025
CREATED:20200414T111415Z
LAST-MODIFIED:20200430T113050Z
UID:1674-1588414500-1588424400@stockholmmakalosa.se
SUMMARY:Vandringar i Ursvik
DESCRIPTION:Följ med på en 5-km vandring i lugn takt där vi stannar för att njuta av naturen och se oss omkring. Vi tar en lunchpaus och en fikarast. Under vandringen spelar vi även enklare naturbingo tillsammans! \nNär: lördagarna 2 & 9 maj kl 10.15 (räkna med 2\,5 – 3 timmar inklusive 2 pauser)\nVar: samling kl 10.15 i Hallonbergens centrum\, utanför byggnaden vid busstorget. Det går att åka bil till Ursvik och då ses vi där vid 10.30.\nVem: vuxna och stora barn samt barn med barnvagn. Viss vandringsvana är bra att ha. Man kan dra barnvagn men på något ställe får vi hjälpas åt. Medlemskap i föreningen är trevligt men är ej krav.\nTa med:  lunchmatsäck + frukt/fika för din familj\, vattenflaska\, något att sitta på (det går bra med en tidning i en soppåse!) gärna extra strumpor\, plåster\, kamera\, solskyddsmedel och ett gott humör. Gå i bra skor\, gärna vattentäta eller stövlar.\nTräffledare: föreningens ordförande Cecilia Ek.\nAnmälan:  via sms till Cecilia Ek på 076-933 56 54\, skriv namn + ålder\, senast på fredag eftermiddag (1/5 resp 8/5) . Meddela också i fall om ni får förhinder/blir sjuka – så att gruppen inte väntar på någon som ej kommer. Ange gärna i anmälan om du åker bil. \nSoligt välkomna önskar Cecilia och Stockholms Makalösa Föräldrar! \n  \n(Givetvis hoppas vi att ni tar hänsyn till rekommendationerna kring coronaspridningen och stannar hemma om ni har något symptom eller varit sjuka nyligen.)
URL:http://stockholmmakalosa.se/event/vandringar-i-ursvik/
LOCATION:Ursvik
ATTACH;FMTTYPE=image/jpeg:http://stockholmmakalosa.se/wp-content/uploads/2020/04/Ursvik2-1-scaled.jpg
END:VEVENT
END:VCALENDAR