BEGIN:VCALENDAR
VERSION:2.0
PRODID:-//STOCKHOLMS MAKALÖSA FÖRÄLDRAR - ECPv6.15.20//NONSGML v1.0//EN
CALSCALE:GREGORIAN
METHOD:PUBLISH
X-WR-CALNAME:STOCKHOLMS MAKALÖSA FÖRÄLDRAR
X-ORIGINAL-URL:https://stockholmmakalosa.se
X-WR-CALDESC:Händelser för STOCKHOLMS MAKALÖSA FÖRÄLDRAR
REFRESH-INTERVAL;VALUE=DURATION:PT1H
X-Robots-Tag:noindex
X-PUBLISHED-TTL:PT1H
BEGIN:VTIMEZONE
TZID:Europe/Stockholm
BEGIN:DAYLIGHT
TZOFFSETFROM:+0100
TZOFFSETTO:+0200
TZNAME:CEST
DTSTART:20250330T010000
END:DAYLIGHT
BEGIN:STANDARD
TZOFFSETFROM:+0200
TZOFFSETTO:+0100
TZNAME:CET
DTSTART:20251026T010000
END:STANDARD
BEGIN:DAYLIGHT
TZOFFSETFROM:+0100
TZOFFSETTO:+0200
TZNAME:CEST
DTSTART:20260329T010000
END:DAYLIGHT
BEGIN:STANDARD
TZOFFSETFROM:+0200
TZOFFSETTO:+0100
TZNAME:CET
DTSTART:20261025T010000
END:STANDARD
BEGIN:DAYLIGHT
TZOFFSETFROM:+0100
TZOFFSETTO:+0200
TZNAME:CEST
DTSTART:20270328T010000
END:DAYLIGHT
BEGIN:STANDARD
TZOFFSETFROM:+0200
TZOFFSETTO:+0100
TZNAME:CET
DTSTART:20271031T010000
END:STANDARD
END:VTIMEZONE
BEGIN:VEVENT
DTSTART;TZID=Europe/Stockholm:20260403T130000
DTEND;TZID=Europe/Stockholm:20260403T150000
DTSTAMP:20260420T092507
CREATED:20260323T123751Z
LAST-MODIFIED:20260323T123751Z
UID:4134-1775221200-1775228400@stockholmmakalosa.se
SUMMARY:Påskfest i Bromma Långfredagen
DESCRIPTION:Kom och fira påsk tillsammans med andra Makalösa familjer Långfredagen 3e april \nVar: Vi ses i en mysig lokal i Bromma / Nockeby (adressen mejlas ut i bekräftelsen) \nNär: kl 13-15. Det bjuds det på påskbuffé\, efteråt blir det dans\, fiskdamm och annat roligt. Vi fikar tillsammans innan det är dags att hjälpas åt med att plocka undan och återställa lokalen runt kl 15.30-17. \nSamordnare: Ottilia står för första planeringen och inköp men ni alla ska välja något att ansvara för när ni anmäler er. \nAnmälan: https://forms.gle/4igobbJqdu9FVzyv9 \nBegränsat antal deltagare. Deltagaravgift på 50 kr per vuxen 30kr per barn betalas i samband med bekräftelsen om plats från oss  (betalas via Swish till ett nr ni får i mejlet). \nAnmälan stänger torsdag kl 21:00. Svar kommer via mejl på fredag  27/3. \nOBS Du har ansvar att kolla av ditt mejl då bekräftelsen eller info om köplats kommer via angivet mejl.  Deltagaravgiften ska komma in senast inom två dagar\, se datum i bekräftelsemejlet. Vi kommer inte kunna mejla påminnelser då vi inte har administrativt utrymme för det.  Kort sagt: ingen deltagaravgift vid satt datum = vi tar in reserver. Detta för att respektera både samordnarens  arbetstid men även den tid våra ideella ledare lägger på detta och så klart de köande som vill komma! Vid avbokning återbetalas deltagaravgiften endast om vi haft möjlighet att ta in någon från reserver. \nViktigt! Festen är medlemsdriven och arrangeras med bidrag från Riksförbundet som kommer få ta del av era mejladresser för att skicka ut utvärderingar till er. Vår önskan är givetvis att alla svarar på utvärderingen så att Riksförbundet kan återrapportera bidrag de har fått för att vi ska kunna göra gemenskapsfrämjande aktiviteter under högtiderna. \nDu som anmäler dig ska ha läst och godkänt föreningens riktlinjer https://stockholmmakalosa.se/wp-content/uploads/2023/03/Etiska-riktlinjer.pdf innan och är ansvarig för ditt barn under hela aktiviteten.
URL:https://stockholmmakalosa.se/event/paskfest-i-bromma-langfredagen/
ATTACH;FMTTYPE=image/jpeg:https://stockholmmakalosa.se/wp-content/uploads/2026/03/melissa-walker-horn-l0mnnasWei8-unsplash-scaled.jpg
END:VEVENT
END:VCALENDAR