BEGIN:VCALENDAR
VERSION:2.0
PRODID:-//STOCKHOLMS MAKALÖSA FÖRÄLDRAR - ECPv6.15.20//NONSGML v1.0//EN
CALSCALE:GREGORIAN
METHOD:PUBLISH
X-ORIGINAL-URL:https://stockholmmakalosa.se
X-WR-CALDESC:Händelser för STOCKHOLMS MAKALÖSA FÖRÄLDRAR
REFRESH-INTERVAL;VALUE=DURATION:PT1H
X-Robots-Tag:noindex
X-PUBLISHED-TTL:PT1H
BEGIN:VTIMEZONE
TZID:Europe/Stockholm
BEGIN:DAYLIGHT
TZOFFSETFROM:+0100
TZOFFSETTO:+0200
TZNAME:CEST
DTSTART:20250330T010000
END:DAYLIGHT
BEGIN:STANDARD
TZOFFSETFROM:+0200
TZOFFSETTO:+0100
TZNAME:CET
DTSTART:20251026T010000
END:STANDARD
BEGIN:DAYLIGHT
TZOFFSETFROM:+0100
TZOFFSETTO:+0200
TZNAME:CEST
DTSTART:20260329T010000
END:DAYLIGHT
BEGIN:STANDARD
TZOFFSETFROM:+0200
TZOFFSETTO:+0100
TZNAME:CET
DTSTART:20261025T010000
END:STANDARD
BEGIN:DAYLIGHT
TZOFFSETFROM:+0100
TZOFFSETTO:+0200
TZNAME:CEST
DTSTART:20270328T010000
END:DAYLIGHT
BEGIN:STANDARD
TZOFFSETFROM:+0200
TZOFFSETTO:+0100
TZNAME:CET
DTSTART:20271031T010000
END:STANDARD
END:VTIMEZONE
BEGIN:VEVENT
DTSTART;TZID=Europe/Stockholm:20260405T100000
DTEND;TZID=Europe/Stockholm:20260405T140000
DTSTAMP:20260422T140001
CREATED:20260323T130112Z
LAST-MODIFIED:20260323T130112Z
UID:4137-1775383200-1775397600@stockholmmakalosa.se
SUMMARY:Skogsträff med promenad i Ursvik sön 5/4
DESCRIPTION:Kom och njut av våren och allt som hör den! Detta blir en återkommande träff under våren. \nVar: Vi träffas i Hallonbergen\, utanför centrum vid busstorget kl 10. Vi går ner till Ursvik tillsammans.\nNär: Första träffen 5/4 Påskdagen \nTid: kl 10:00 samling\nSamordnare: Cecilia \nVi går 5 km spåret i lagom takt. Stannar och leker där det finns möjlighet.\nVi upplever också naturen runt oss. Vårtecken och annat fint.\nAlla har med sig två matsäckar\, lunch + fika för två olika stopp.\nHa bra skor och ombyte av strumpor. Plåster är också bra att ha med. \nDatum våren 2026: \nFörsta träffen 5/4 Påskdagen\n19/4 Söndag\n3/5 Söndag\n24/5 Söndag \nCecilia tänker stavgå och det kan även andra göra om de önskar.\nRäkna 3-4 timmar per träff \nVarmt välkomna!
URL:https://stockholmmakalosa.se/event/skogstraff-med-promenad-i-ursvik-son-5-4/
ATTACH;FMTTYPE=image/jpeg:https://stockholmmakalosa.se/wp-content/uploads/2026/03/yunus-emre-ozturk-6WHUhkkSGQc-unsplash-scaled.jpg
END:VEVENT
BEGIN:VEVENT
DTSTART;TZID=Europe/Stockholm:20260406T130000
DTEND;TZID=Europe/Stockholm:20260406T160000
DTSTAMP:20260422T140001
CREATED:20260323T114210Z
LAST-MODIFIED:20260323T114210Z
UID:4132-1775480400-1775491200@stockholmmakalosa.se
SUMMARY:Äggjakt och påskgrill 2026
DESCRIPTION:Välkommen till Stockholms Makalösa Föräldrar årliga tradition med grill vid Kaknästornet. Välkommen med din anmälan till  Äggjakt och påskgrill 2026!\n\n\nNär: måndagen Annandagpåsk  6/4 kl. 13 – ca 16\, eller så länge leklusten och orken finns! \nSamordnare: Anna G \nVar:  Kaknäs äventyrslekplats\, Mörka kroken  28-30 \n\nAnmälningslänk: https://forms.gle/pTYwx4tx1PASLYSx5\nAnmälan stänger torsdag kl 21:00\n\nDet kommer att finnas olika alternativ att grilla och vi ordnar även tillbehör\, grönsaker att grilla och något gott att dricka. Och fika förstås 🙂 Skriv tydligt vad ni önskar att grilla så att vi beställer rätt mängd och ni får det ni föredrar att äta!\n\nOBS Du har ansvar att kolla av ditt mejl då bekräftelsen eller info om köplats kommer via angivet mejl. Svar kommer mejlledes på fredag  27/3\n\n\nDu som anmäler dig ska ha läst och godkänt föreningens riktlinjer innan och är ansvarig för ditt barn under hela aktiviteten: https://stockholmmakalosa.se/wp-content/uploads/2024/10/Etiska-riktlinjer-2024.pdf
URL:https://stockholmmakalosa.se/event/aggjakt-och-paskgrill-2026/
ATTACH;FMTTYPE=image/jpeg:https://stockholmmakalosa.se/wp-content/uploads/2024/03/easter-g42b88130e_1920.jpg
END:VEVENT
BEGIN:VEVENT
DTSTART;TZID=Europe/Stockholm:20260430T160000
DTEND;TZID=Europe/Stockholm:20260430T183000
DTSTAMP:20260422T140001
CREATED:20260422T093318Z
LAST-MODIFIED:20260422T093408Z
UID:4147-1777564800-1777573800@stockholmmakalosa.se
SUMMARY:Valborgsfirande på Skansen 2026
DESCRIPTION:Valborg är en av Skansens mest uppskattade och stämningsfulla vårtraditioner – en tradition sedan 1892. Hälsa våren välkommen med valborgsfirande för barnen\, lek och bus\, valborgsbrasor och mycket mer! \nVi möts upp vid Skansens entré och tar en gemensam promenad till djuren på Lill-Skansen. Makalösa bjuder på korv med bröd och fika. \nVar:  Skansen\nNär: 30e april kl 16:00 – 18:30\nVem: vuxna och barn i alla åldrar\,  medlemmar i föreningen. \nAnmälningslänk: https://forms.gle/UnAbMv51FfynxA3m6 \nPREL. PROGRAM: Samling kl 16 utanför Skansens huvudentré och går in tillsammans. Mer info finns här: \nValborgsmässoafton – Skansen \nSista dagen att anmäla sig är söndagen 26/4. Vi återkommer på måndagen 27/4  om erhållna platser. \nBegränsat antal deltagare. Deltagaravgift 30kr per person  betalas via Swish till en av ledarna i samband med bekräftelsen ni får från oss via mejl.  Deltagaravgiften återbetalas endast om vi fått avbokning i god tid och kunnat ta in reserver.\n \nAktivitetssamordnare: Anckie och Maria \nDu som anmäler dig ska ha läst och godkänt föreningens riktlinjer innan och är ansvarig för ditt barn under hela aktiviteten: https://stockholmmakalosa.se/wp-content/uploads/2024/10/Etiska-riktlinjer-2024.pdf \nVarmt välkomna – och trevlig Valborg!
URL:https://stockholmmakalosa.se/event/valborgsfirande-pa-skansen-2026/
ATTACH;FMTTYPE=image/webp:https://stockholmmakalosa.se/wp-content/uploads/2026/04/Valborg_2022_brasan_tands-Anna-Hugosson.webp
END:VEVENT
END:VCALENDAR